Workbook

Sheet תקציב 2026
C1: מנהל הגזברות | G1: עיריית חולון | L1: אגף תקציבים
B2: הצעת התקציב הרגיל לשנת 2026 בש"ח
A4: מספר מאוחד | B4: סעיף | C4: פרק | D4: ספר | F4: שם | G4: סוג | H4: אחוז השינוי מול 2025 | I4: סעיפים חדשים | J4: הצעה 2026 | K4: הצעה 2025 | L4: ביצוע 2024
F5: תקציבי עזר
A6: 1090000 | B6: 000 | C6: 090000 | D6: 1 | F6: תקציבי עזר
A7: 1092000110 | B7: 110 | C7: 092000 | D7: 1 | F7: השכר הקובע-תקציבית | G7: שכר | H7: =J7/K7-1 -> 0.025 | J7: =VLOOKUP(A7,'[1]תקציב 2026'!$A$1:$M$65536,9,0) -> 198030 | K7: 193200 | L7: =VLOOKUP(A7,[2]data1761205830331!$A$1:$J$65536,10,0) -> 202370.82
A8: 1092000119 | B8: 119 | C8: 092000 | D8: 1 | F8: השכר הקובע-צוברת | G8: שכר | H8: =J8/K8-1 -> 0.21809262 | J8: =VLOOKUP(A8,'[1]תקציב 2026'!$A$1:$M$65536,9,0) -> 310370 | K8: 254800 | L8: =VLOOKUP(A8,[2]data1761205830331!$A$1:$J$65536,10,0) -> 342463.72
A9: 1092000122 | B9: 122 | C9: 092000 | D9: 1 | F9: ביגוד | G9: שכר | H9: =J9/K9-1 -> 0.33333333 | J9: =VLOOKUP(A9,'[1]תקציב 2026'!$A$1:$M$65536,9,0) -> 8000 | K9: =VLOOKUP(A9,[3]גיליון1!$A$1:$C$7693,3,0) -> 6000 | L9: =VLOOKUP(A9,[2]data1761205830331!$A$1:$J$65536,10,0) -> 5834.13
A10: 1092000126 | B10: 126 | C10: 092000 | D10: 1 | F10: דמי הבראה | G10: שכר | H10: =J10/K10-1 -> 0.33333333 | J10: =VLOOKUP(A10,'[1]תקציב 2026'!$A$1:$M$65536,9,0) -> 25200 | K10: =VLOOKUP(A10,[3]גיליון1!$A$1:$C$7693,3,0) -> 18900 | L10: =VLOOKUP(A10,[2]data1761205830331!$A$1:$J$65536,10,0) -> 18384.6
A11: 1092000130 | B11: 130 | C11: 092000 | D11: 1 | F11: שעות נוספות | G11: שכר | H11: =J11/K11-1 -> 0 | J11: =VLOOKUP(A11,'[1]תקציב 2026'!$A$1:$M$65536,9,0) -> 54700 | K11: 54700 | L11: =VLOOKUP(A11,[2]data1761205830331!$A$1:$J$65536,10,0) -> 42661.58
A12: 1092000140 | B12: 140 | C12: 092000 | D12: 1 | F12: השתתפות באחזקת רכב | G12: שכר | H12: =J12/K12-1 -> 0 | J12: =VLOOKUP(A12,'[1]תקציב 2026'!$A$1:$M$65536,9,0) -> 79600 | K12: =VLOOKUP(A12,[3]גיליון1!$A$1:$C$7693,3,0) -> 79600 | L12: =VLOOKUP(A12,[2]data1761205830331!$A$1:$J$65536,10,0) -> 74564.43
A13: 1092000410 | B13: 410 | C13: 092000 | D13: 1 | F13: השתתפות בועד בית | G13: קשיח | H13: =J13/K13-1 -> 0 | J13: =VLOOKUP(A13,'[1]תקציב 2026'!$A$1:$M$65536,9,0) -> 10000 | K13: =VLOOKUP(A13,[3]גיליון1!$A$1:$C$7693,3,0) -> 10000 | L13: =VLOOKUP(A13,[2]data1761205830331!$A$1:$J$65536,10,0) -> 8340
A14: 1092000420 | B14: 420 | C14: 092000 | D14: 1 | F14: כיבוי אש | G14: קשיח | H14: =J14/K14-1 -> 0.39534884 | J14: =VLOOKUP(A14,'[1]תקציב 2026'!$A$1:$M$65536,9,0) -> 60000 | K14: 43000 | L14: =VLOOKUP(A14,[2]data1761205830331!$A$1:$J$65536,10,0) -> 26556.96
A15: 1092000423 | B15: 423 | C15: 092000 | D15: 1 | F15: תחזוקת מבנה | G15: קשיח | H15: =J15/K15-1 -> 0 | J15: =VLOOKUP(A15,'[1]תקציב 2026'!$A$1:$M$65536,9,0) -> 34000 | K15: =VLOOKUP(A15,[3]גיליון1!$A$1:$C$7693,3,0) -> 34000 | L15: =VLOOKUP(A15,[2]data1761205830331!$A$1:$J$65536,10,0) -> 34000
A16: 1092000431 | B16: 431 | C16: 092000 | D16: 1 | F16: חשמל | G16: קשיח | H16: =J16/K16-1 -> 0.080108011 | J16: =VLOOKUP(A16,'[1]תקציב 2026'!$A$1:$M$65536,9,0) -> 1200000 | K16: 1111000 | L16: =VLOOKUP(A16,[2]data1761205830331!$A$1:$J$65536,10,0) -> 1107023.2
A17: 1092000432 | B17: 432 | C17: 092000 | D17: 1 | F17: מים | G17: קשיח | H17: =J17/K17-1 -> 0 | J17: =VLOOKUP(A17,'[1]תקציב 2026'!$A$1:$M$65536,9,0) -> 240000 | K17: =VLOOKUP(A17,[3]גיליון1!$A$1:$C$7693,3,0) -> 240000 | L17: =VLOOKUP(A17,[2]data1761205830331!$A$1:$J$65536,10,0) -> 49997.09
A18: 1092000433 | B18: 433 | C18: 092000 | D18: 1 | F18: חומרי נקיון | G18: קשיח | H18: =J18/K18-1 -> 0 | J18: =VLOOKUP(A18,'[1]תקציב 2026'!$A$1:$M$65536,9,0) -> 26600 | K18: =VLOOKUP(A18,[3]גיליון1!$A$1:$C$7693,3,0) -> 26600 | L18: =VLOOKUP(A18,[2]data1761205830331!$A$1:$J$65536,10,0) -> 9031.91
A19: 1092000434 | B19: 434 | C19: 092000 | D19: 1 | F19: חיטוי והדברה | G19: קשיח | H19: =J19/K19-1 -> 0 | J19: =VLOOKUP(A19,'[1]תקציב 2026'!$A$1:$M$65536,9,0) -> 19000 | K19: =VLOOKUP(A19,[3]גיליון1!$A$1:$C$7693,3,0) -> 19000 | L19: =VLOOKUP(A19,[2]data1761205830331!$A$1:$J$65536,10,0) -> 18070.46
A20: 1092000436 | B20: 436 | C20: 092000 | D20: 1 | F20: אחזקת מזגנים | G20: גמיש | H20: =J20/K20-1 -> -0.67105263 | J20: =VLOOKUP(A20,'[1]תקציב 2026'!$A$1:$M$65536,9,0) -> 25000 | K20: =VLOOKUP(A20,[3]גיליון1!$A$1:$C$7693,3,0) -> 76000 | L20: =VLOOKUP(A20,[2]data1761205830331!$A$1:$J$65536,10,0) -> 4167.63
A21: 1092000437 | B21: 437 | C21: 092000 | D21: 1 | F21: אחזקת אזעקה | G21: קשיח | H21: =J21/K21-1 -> 0 | J21: =VLOOKUP(A21,'[1]תקציב 2026'!$A$1:$M$65536,9,0) -> 5300 | K21: =VLOOKUP(A21,[3]גיליון1!$A$1:$C$7693,3,0) -> 5300 | L21: =VLOOKUP(A21,[2]data1761205830331!$A$1:$J$65536,10,0) -> 3027.49
A22: 1092000438 | B22: 438 | C22: 092000 | D22: 1 | F22: בטוח ורשוי קשר | G22: קשיח | H22: =J22/K22-1 -> -0.52 | J22: =VLOOKUP(A22,'[1]תקציב 2026'!$A$1:$M$65536,9,0) -> 24000 | K22: 50000 | L22: =VLOOKUP(A22,[2]data1761205830331!$A$1:$J$65536,10,0) -> 39261.52
A23: 1092000439 | B23: 439 | C23: 092000 | D23: 1 | F23: השכרת איתוריות | G23: קשיח | H23: =J23/K23-1 -> -1 | J23: =VLOOKUP(A23,'[1]תקציב 2026'!$A$1:$M$65536,9,0) -> 0 | K23: =VLOOKUP(A23,[3]גיליון1!$A$1:$C$7693,3,0) -> 1700 | L23: =VLOOKUP(A23,[2]data1761205830331!$A$1:$J$65536,10,0) -> 0
A24: 1092000450 | B24: 450 | C24: 092000 | D24: 1 | F24: אחזקת תמי 4 | G24: קשיח | H24: =J24/K24-1 -> 0 | J24: =VLOOKUP(A24,'[1]תקציב 2026'!$A$1:$M$65536,9,0) -> 50000 | K24: 50000 | L24: =VLOOKUP(A24,[2]data1761205830331!$A$1:$J$65536,10,0) -> 53758.46
A25: 1092000451 | B25: 451 | C25: 092000 | D25: 1 | F25: אחזקת דפיברילטור | G25: קשיח | H25: =J25/K25-1 -> -0.84 | J25: =VLOOKUP(A25,'[1]תקציב 2026'!$A$1:$M$65536,9,0) -> 8000 | K25: 50000 | L25: =VLOOKUP(A25,[2]data1761205830331!$A$1:$J$65536,10,0) -> 2960.1
A26: 1092000470 | B26: 470 | C26: 092000 | D26: 1 | F26: אחזקת מכונות משרד | G26: גמיש | H26: 0 | J26: =VLOOKUP(A26,'[1]תקציב 2026'!$A$1:$M$65536,9,0) -> 0 | K26: 0 | L26: =VLOOKUP(A26,[2]data1761205830331!$A$1:$J$65536,10,0) -> 6030.03
A27: 1092000474 | B27: 474 | C27: 092000 | D27: 1 | F27: שרות למעליות | G27: קשיח | H27: =J27/K27-1 -> 0 | J27: =VLOOKUP(A27,'[1]תקציב 2026'!$A$1:$M$65536,9,0) -> 55000 | K27: =VLOOKUP(A27,[3]גיליון1!$A$1:$C$7693,3,0) -> 55000 | L27: =VLOOKUP(A27,[2]data1761205830331!$A$1:$J$65536,10,0) -> 56418
A28: 1092000476 | B28: 476 | C28: 092000 | D28: 1 | F28: אחזקת גנרטור | G28: קשיח | H28: =J28/K28-1 -> 0 | J28: =VLOOKUP(A28,'[1]תקציב 2026'!$A$1:$M$65536,9,0) -> 13500 | K28: =VLOOKUP(A28,[3]גיליון1!$A$1:$C$7693,3,0) -> 13500 | L28: =VLOOKUP(A28,[2]data1761205830331!$A$1:$J$65536,10,0) -> 12928.5
A29: 1092000511 | B29: 511 | C29: 092000 | D29: 1 | F29: שתיה לעובדים | G29: גמיש | H29: =J29/K29-1 -> 0.17525773 | J29: =VLOOKUP(A29,'[1]תקציב 2026'!$A$1:$M$65536,9,0) -> 570000 | K29: =VLOOKUP(A29,[3]גיליון1!$A$1:$C$7693,3,0) -> 485000 | L29: =VLOOKUP(A29,[2]data1761205830331!$A$1:$J$65536,10,0) -> 449325.44
A30: 1092000540 | B30: 540 | C30: 092000 | D30: 1 | F30: הוצאות טלפון | G30: קשיח | H30: =J30/K30-1 -> 0.0625 | J30: =VLOOKUP(A30,'[1]תקציב 2026'!$A$1:$M$65536,9,0) -> 850000 | K30: =VLOOKUP(A30,[3]גיליון1!$A$1:$C$7693,3,0) -> 800000 | L30: =VLOOKUP(A30,[2]data1761205830331!$A$1:$J$65536,10,0) -> 820314.03
A31: 1092000543 | B31: 543 | C31: 092000 | D31: 1 | F31: טלפונים סלולריים | G31: גמיש | H31: =J31/K31-1 -> -0.22222222 | J31: =VLOOKUP(A31,'[1]תקציב 2026'!$A$1:$M$65536,9,0) -> 350000 | K31: 450000 | L31: =VLOOKUP(A31,[2]data1761205830331!$A$1:$J$65536,10,0) -> 436279.95
A32: 1092000710 | B32: 710 | C32: 092000 | D32: 1 | F32: הובלות והסעות | G32: גמיש | H32: =J32/K32-1 -> 0.8 | J32: =VLOOKUP(A32,'[1]תקציב 2026'!$A$1:$M$65536,9,0) -> 9000 | K32: 5000 | L32: =VLOOKUP(A32,[2]data1761205830331!$A$1:$J$65536,10,0) -> 7043
A33: 1092000721 | B33: 721 | C33: 092000 | D33: 1 | F33: חמרים-תחזוקת מבנים | G33: גמיש | H33: 0 | J33: =VLOOKUP(A33,'[1]תקציב 2026'!$A$1:$M$65536,9,0) -> 0 | K33: 0 | L33: =VLOOKUP(A33,[2]data1761205830331!$A$1:$J$65536,10,0) -> 429.52
A34: 1092000722 | B34: 722 | C34: 092000 | D34: 1 | F34: חמרים-תחזוקה עצמית | G34: גמיש | H34: =J34/K34-1 -> 0.5 | J34: =VLOOKUP(A34,'[1]תקציב 2026'!$A$1:$M$65536,9,0) -> 30000 | K34: 20000 | L34: =VLOOKUP(A34,[2]data1761205830331!$A$1:$J$65536,10,0) -> 15980.49
A35: 1092000742 | B35: 742 | C35: 092000 | D35: 1 | F35: כלים וציוד | G35: גמיש | H35: =J35/K35-1 -> 0 | J35: =VLOOKUP(A35,'[1]תקציב 2026'!$A$1:$M$65536,9,0) -> 2300 | K35: 2300 | L35: =VLOOKUP(A35,[2]data1761205830331!$A$1:$J$65536,10,0) -> 1126
A36: 1092000751 | B36: 751 | C36: 092000 | D36: 1 | F36: עבודות קבלניות | G36: גמיש | H36: =J36/K36-1 -> 1.3542001 | J36: =VLOOKUP(A36,'[1]תקציב 2026'!$A$1:$M$65536,9,0) -> 440000 | K36: 186900 | L36: =VLOOKUP(A36,[2]data1761205830331!$A$1:$J$65536,10,0) -> 109889
A37: 1092000752 | B37: 752 | C37: 092000 | D37: 1 | F37: נקיון בקבלנות | G37: קשיח | H37: =J37/K37-1 -> 0.0575 | J37: =VLOOKUP(A37,'[1]תקציב 2026'!$A$1:$M$65536,9,0) -> 2115000 | K37: 2000000 | L37: =VLOOKUP(A37,[2]data1761205830331!$A$1:$J$65536,10,0) -> 1256687
A38: 1092000756 | B38: 756 | C38: 092000 | D38: 1 | F38: שמירה בקבלנות | G38: קשיח | H38: =J38/K38-1 -> 0 | J38: =VLOOKUP(A38,'[1]תקציב 2026'!$A$1:$M$65536,9,0) -> 1500000 | K38: =VLOOKUP(A38,[3]גיליון1!$A$1:$C$7693,3,0) -> 1500000 | L38: =VLOOKUP(A38,[2]data1761205830331!$A$1:$J$65536,10,0) -> 2388204.9
A39: 1092000757 | B39: 757 | C39: 092000 | D39: 1 | F39: אבטחת בית רותר | G39: גמיש | H39: =J39/K39-1 -> 0 | J39: =VLOOKUP(A39,'[1]תקציב 2026'!$A$1:$M$65536,9,0) -> 330000 | K39: 330000 | L39: =VLOOKUP(A39,[2]data1761205830331!$A$1:$J$65536,10,0) -> 0
A40: 1092000758 | B40: 758 | C40: 092000 | D40: 1 | F40: אבטחה בניין מלט"ב | G40: גמיש | H40: =J40/K40-1 -> 0.086956522 | J40: =VLOOKUP(A40,'[1]תקציב 2026'!$A$1:$M$65536,9,0) -> 250000 | K40: 230000 | L40: =VLOOKUP(A40,[2]data1761205830331!$A$1:$J$65536,10,0) -> 0
A41: 1092000794 | B41: 794 | C41: 092000 | D41: 1 | F41: השתתפות בעזר 094 | G41: קשיח | H41: =J41/K41-1 -> 0 | J41: =VLOOKUP(A41,'[1]תקציב 2026'!$A$1:$M$65536,9,0) -> 50000 | K41: 50000 | L41: =VLOOKUP(A41,[2]data1761205830331!$A$1:$J$65536,10,0) -> 59636
...
