Workbook

Sheet תקציב 2026
C1: מנהל הגזברות | G1: עיריית חולון | L1: אגף תקציבים
B2: הצעת התקציב הרגיל לשנת 2026 בש"ח
A4: מספר מאוחד | B4: סעיף | C4: פרק | D4: ספר | F4: שם | G4: סוג | H4: אחוז השינוי מול 2025 | I4: סעיפים חדשים | J4: הצעה 2026 | K4: הצעה 2025 | L4: ביצוע 2024
F5: תקציבי עזר
A6: 1090000 | B6: 000 | C6: 090000 | D6: 1 | F6: תקציבי עזר
A7: 1092000110 | B7: 110 | C7: 092000 | D7: 1 | F7: השכר הקובע-תקציבית | G7: שכר | H7: =J7/K7-1 -> 0.025 | J7: =VLOOKUP(A7,'[1]תקציב 2026'!$A$1:$M$65536,9,0) -> 198030 | K7: 193200 | L7: =VLOOKUP(A7,[2]data1761205830331!$A$1:$J$65536,10,0) -> 202370.82
A8: 1092000119 | B8: 119 | C8: 092000 | D8: 1 | F8: השכר הקובע-צוברת | G8: שכר | H8: =J8/K8-1 -> 0.21809262 | J8: =VLOOKUP(A8,'[1]תקציב 2026'!$A$1:$M$65536,9,0) -> 310370 | K8: 254800 | L8: =VLOOKUP(A8,[2]data1761205830331!$A$1:$J$65536,10,0) -> 342463.72
A9: 1092000122 | B9: 122 | C9: 092000 | D9: 1 | F9: ביגוד | G9: שכר | H9: =J9/K9-1 -> 0.33333333 | J9: =VLOOKUP(A9,'[1]תקציב 2026'!$A$1:$M$65536,9,0) -> 8000 | K9: =VLOOKUP(A9,[3]גיליון1!$A$1:$C$7693,3,0) -> 6000 | L9: =VLOOKUP(A9,[2]data1761205830331!$A$1:$J$65536,10,0) -> 5834.13
A10: 1092000126 | B10: 126 | C10: 092000 | D10: 1 | F10: דמי הבראה | G10: שכר | H10: =J10/K10-1 -> 0.33333333 | J10: =VLOOKUP(A10,'[1]תקציב 2026'!$A$1:$M$65536,9,0) -> 25200 | K10: =VLOOKUP(A10,[3]גיליון1!$A$1:$C$7693,3,0) -> 18900 | L10: =VLOOKUP(A10,[2]data1761205830331!$A$1:$J$65536,10,0) -> 18384.6
A11: 1092000130 | B11: 130 | C11: 092000 | D11: 1 | F11: שעות נוספות | G11: שכר | H11: =J11/K11-1 -> 0 | J11: =VLOOKUP(A11,'[1]תקציב 2026'!$A$1:$M$65536,9,0) -> 54700 | K11: 54700 | L11: =VLOOKUP(A11,[2]data1761205830331!$A$1:$J$65536,10,0) -> 42661.58
A12: 1092000140 | B12: 140 | C12: 092000 | D12: 1 | F12: השתתפות באחזקת רכב | G12: שכר | H12: =J12/K12-1 -> 0 | J12: =VLOOKUP(A12,'[1]תקציב 2026'!$A$1:$M$65536,9,0) -> 79600 | K12: =VLOOKUP(A12,[3]גיליון1!$A$1:$C$7693,3,0) -> 79600 | L12: =VLOOKUP(A12,[2]data1761205830331!$A$1:$J$65536,10,0) -> 74564.43
A13: 1092000410 | B13: 410 | C13: 092000 | D13: 1 | F13: השתתפות בועד בית | G13: קשיח | H13: =J13/K13-1 -> 0 | J13: =VLOOKUP(A13,'[1]תקציב 2026'!$A$1:$M$65536,9,0) -> 10000 | K13: =VLOOKUP(A13,[3]גיליון1!$A$1:$C$7693,3,0) -> 10000 | L13: =VLOOKUP(A13,[2]data1761205830331!$A$1:$J$65536,10,0) -> 8340
A14: 1092000420 | B14: 420 | C14: 092000 | D14: 1 | F14: כיבוי אש | G14: קשיח | H14: =J14/K14-1 -> 0.39534884 | J14: =VLOOKUP(A14,'[1]תקציב 2026'!$A$1:$M$65536,9,0) -> 60000 | K14: 43000 | L14: =VLOOKUP(A14,[2]data1761205830331!$A$1:$J$65536,10,0) -> 26556.96
A15: 1092000423 | B15: 423 | C15: 092000 | D15: 1 | F15: תחזוקת מבנה | G15: קשיח | H15: =J15/K15-1 -> 0 | J15: =VLOOKUP(A15,'[1]תקציב 2026'!$A$1:$M$65536,9,0) -> 34000 | K15: =VLOOKUP(A15,[3]גיליון1!$A$1:$C$7693,3,0) -> 34000 | L15: =VLOOKUP(A15,[2]data1761205830331!$A$1:$J$65536,10,0) -> 34000
A16: 1092000431 | B16: 431 | C16: 092000 | D16: 1 | F16: חשמל | G16: קשיח | H16: =J16/K16-1 -> 0.080108011 | J16: =VLOOKUP(A16,'[1]תקציב 2026'!$A$1:$M$65536,9,0) -> 1200000 | K16: 1111000 | L16: =VLOOKUP(A16,[2]data1761205830331!$A$1:$J$65536,10,0) -> 1107023.2
A17: 1092000432 | B17: 432 | C17: 092000 | D17: 1 | F17: מים | G17: קשיח | H17: =J17/K17-1 -> 0 | J17: =VLOOKUP(A17,'[1]תקציב 2026'!$A$1:$M$65536,9,0) -> 240000 | K17: =VLOOKUP(A17,[3]גיליון1!$A$1:$C$7693,3,0) -> 240000 | L17: =VLOOKUP(A17,[2]data1761205830331!$A$1:$J$65536,10,0) -> 49997.09
A18: 1092000433 | B18: 433 | C18: 092000 | D18: 1 | F18: חומרי נקיון | G18: קשיח | H18: =J18/K18-1 -> 0 | J18: =VLOOKUP(A18,'[1]תקציב 2026'!$A$1:$M$65536,9,0) -> 26600 | K18: =VLOOKUP(A18,[3]גיליון1!$A$1:$C$7693,3,0) -> 26600 | L18: =VLOOKUP(A18,[2]data1761205830331!$A$1:$J$65536,10,0) -> 9031.91
A19: 1092000434 | B19: 434 | C19: 092000 | D19: 1 | F19: חיטוי והדברה | G19: קשיח | H19: =J19/K19-1 -> 0 | J19: =VLOOKUP(A19,'[1]תקציב 2026'!$A$1:$M$65536,9,0) -> 19000 | K19: =VLOOKUP(A19,[3]גיליון1!$A$1:$C$7693,3,0) -> 19000 | L19: =VLOOKUP(A19,[2]data1761205830331!$A$1:$J$65536,10,0) -> 18070.46
A20: 1092000436 | B20: 436 | C20: 092000 | D20: 1 | F20: אחזקת מזגנים | G20: גמיש | H20: =J20/K20-1 -> -0.67105263 | J20: =VLOOKUP(A20,'[1]תקציב 2026'!$A$1:$M$65536,9,0) -> 25000 | K20: =VLOOKUP(A20,[3]גיליון1!$A$1:$C$7693,3,0) -> 76000 | L20: =VLOOKUP(A20,[2]data1761205830331!$A$1:$J$65536,10,0) -> 4167.63
A21: 1092000437 | B21: 437 | C21: 092000 | D21: 1 | F21: אחזקת אזעקה | G21: קשיח | H21: =J21/K21-1 -> 0 | J21: =VLOOKUP(A21,'[1]תקציב 2026'!$A$1:$M$65536,9,0) -> 5300 | K21: =VLOOKUP(A21,[3]גיליון1!$A$1:$C$7693,3,0) -> 5300 | L21: =VLOOKUP(A21,[2]data1761205830331!$A$1:$J$65536,10,0) -> 3027.49
A22: 1092000438 | B22: 438 | C22: 092000 | D22: 1 | F22: בטוח ורשוי קשר | G22: קשיח | H22: =J22/K22-1 -> -0.52 | J22: =VLOOKUP(A22,'[1]תקציב 2026'!$A$1:$M$65536,9,0) -> 24000 | K22: 50000 | L22: =VLOOKUP(A22,[2]data1761205830331!$A$1:$J$65536,10,0) -> 39261.52
A23: 1092000439 | B23: 439 | C23: 092000 | D23: 1 | F23: השכרת איתוריות | G23: קשיח | H23: =J23/K23-1 -> -1 | J23: =VLOOKUP(A23,'[1]תקציב 2026'!$A$1:$M$65536,9,0) -> 0 | K23: =VLOOKUP(A23,[3]גיליון1!$A$1:$C$7693,3,0) -> 1700 | L23: =VLOOKUP(A23,[2]data1761205830331!$A$1:$J$65536,10,0) -> 0
A24: 1092000450 | B24: 450 | C24: 092000 | D24: 1 | F24: אחזקת תמי 4 | G24: קשיח | H24: =J24/K24-1 -> 0 | J24: =VLOOKUP(A24,'[1]תקציב 2026'!$A$1:$M$65536,9,0) -> 50000 | K24: 50000 | L24: =VLOOKUP(A24,[2]data1761205830331!$A$1:$J$65536,10,0) -> 53758.46
A25: 1092000451 | B25: 451 | C25: 092000 | D25: 1 | F25: אחזקת דפיברילטור | G25: קשיח | H25: =J25/K25-1 -> -0.84 | J25: =VLOOKUP(A25,'[1]תקציב 2026'!$A$1:$M$65536,9,0) -> 8000 | K25: 50000 | L25: =VLOOKUP(A25,[2]data1761205830331!$A$1:$J$65536,10,0) -> 2960.1
A26: 1092000470 | B26: 470 | C26: 092000 | D26: 1 | F26: אחזקת מכונות משרד | G26: גמיש | H26: 0 | J26: =VLOOKUP(A26,'[1]תקציב 2026'!$A$1:$M$65536,9,0) -> 0 | K26: 0 | L26: =VLOOKUP(A26,[2]data1761205830331!$A$1:$J$65536,10,0) -> 6030.03
A27: 1092000474 | B27: 474 | C27: 092000 | D27: 1 | F27: שרות למעליות | G27: קשיח | H27: =J27/K27-1 -> 0 | J27: =VLOOKUP(A27,'[1]תקציב 2026'!$A$1:$M$65536,9,0) -> 55000 | K27: =VLOOKUP(A27,[3]גיליון1!$A$1:$C$7693,3,0) -> 55000 | L27: =VLOOKUP(A27,[2]data1761205830331!$A$1:$J$65536,10,0) -> 56418
A28: 1092000476 | B28: 476 | C28: 092000 | D28: 1 | F28: אחזקת גנרטור | G28: קשיח | H28: =J28/K28-1 -> 0 | J28: =VLOOKUP(A28,'[1]תקציב 2026'!$A$1:$M$65536,9,0) -> 13500 | K28: =VLOOKUP(A28,[3]גיליון1!$A$1:$C$7693,3,0) -> 13500 | L28: =VLOOKUP(A28,[2]data1761205830331!$A$1:$J$65536,10,0) -> 12928.5
A29: 1092000511 | B29: 511 | C29: 092000 | D29: 1 | F29: שתיה לעובדים | G29: גמיש | H29: =J29/K29-1 -> 0.17525773 | J29: =VLOOKUP(A29,'[1]תקציב 2026'!$A$1:$M$65536,9,0) -> 570000 | K29: =VLOOKUP(A29,[3]גיליון1!$A$1:$C$7693,3,0) -> 485000 | L29: =VLOOKUP(A29,[2]data1761205830331!$A$1:$J$65536,10,0) -> 449325.44
A30: 1092000540 | B30: 540 | C30: 092000 | D30: 1 | F30: הוצאות טלפון | G30: קשיח | H30: =J30/K30-1 -> 0.0625 | J30: =VLOOKUP(A30,'[1]תקציב 2026'!$A$1:$M$65536,9,0) -> 850000 | K30: =VLOOKUP(A30,[3]גיליון1!$A$1:$C$7693,3,0) -> 800000 | L30: =VLOOKUP(A30,[2]data1761205830331!$A$1:$J$65536,10,0) -> 820314.03
A31: 1092000543 | B31: 543 | C31: 092000 | D31: 1 | F31: טלפונים סלולריים | G31: גמיש | H31: =J31/K31-1 -> -0.22222222 | J31: =VLOOKUP(A31,'[1]תקציב 2026'!$A$1:$M$65536,9,0) -> 350000 | K31: 450000 | L31: =VLOOKUP(A31,[2]data1761205830331!$A$1:$J$65536,10,0) -> 436279.95
A32: 1092000710 | B32: 710 | C32: 092000 | D32: 1 | F32: הובלות והסעות | G32: גמיש | H32: =J32/K32-1 -> 0.8 | J32: =VLOOKUP(A32,'[1]תקציב 2026'!$A$1:$M$65536,9,0) -> 9000 | K32: 5000 | L32: =VLOOKUP(A32,[2]data1761205830331!$A$1:$J$65536,10,0) -> 7043
A33: 1092000721 | B33: 721 | C33: 092000 | D33: 1 | F33: חמרים-תחזוקת מבנים | G33: גמיש | H33: 0 | J33: =VLOOKUP(A33,'[1]תקציב 2026'!$A$1:$M$65536,9,0) -> 0 | K33: 0 | L33: =VLOOKUP(A33,[2]data1761205830331!$A$1:$J$65536,10,0) -> 429.52
A34: 1092000722 | B34: 722 | C34: 092000 | D34: 1 | F34: חמרים-תחזוקה עצמית | G34: גמיש | H34: =J34/K34-1 -> 0.5 | J34: =VLOOKUP(A34,'[1]תקציב 2026'!$A$1:$M$65536,9,0) -> 30000 | K34: 20000 | L34: =VLOOKUP(A34,[2]data1761205830331!$A$1:$J$65536,10,0) -> 15980.49
A35: 1092000742 | B35: 742 | C35: 092000 | D35: 1 | F35: כלים וציוד | G35: גמיש | H35: =J35/K35-1 -> 0 | J35: =VLOOKUP(A35,'[1]תקציב 2026'!$A$1:$M$65536,9,0) -> 2300 | K35: 2300 | L35: =VLOOKUP(A35,[2]data1761205830331!$A$1:$J$65536,10,0) -> 1126
A36: 1092000751 | B36: 751 | C36: 092000 | D36: 1 | F36: עבודות קבלניות | G36: גמיש | H36: =J36/K36-1 -> 1.3542001 | J36: =VLOOKUP(A36,'[1]תקציב 2026'!$A$1:$M$65536,9,0) -> 440000 | K36: 186900 | L36: =VLOOKUP(A36,[2]data1761205830331!$A$1:$J$65536,10,0) -> 109889
A37: 1092000752 | B37: 752 | C37: 092000 | D37: 1 | F37: נקיון בקבלנות | G37: קשיח | H37: =J37/K37-1 -> 0.0575 | J37: =VLOOKUP(A37,'[1]תקציב 2026'!$A$1:$M$65536,9,0) -> 2115000 | K37: 2000000 | L37: =VLOOKUP(A37,[2]data1761205830331!$A$1:$J$65536,10,0) -> 1256687
A38: 1092000756 | B38: 756 | C38: 092000 | D38: 1 | F38: שמירה בקבלנות | G38: קשיח | H38: =J38/K38-1 -> 0 | J38: =VLOOKUP(A38,'[1]תקציב 2026'!$A$1:$M$65536,9,0) -> 1500000 | K38: =VLOOKUP(A38,[3]גיליון1!$A$1:$C$7693,3,0) -> 1500000 | L38: =VLOOKUP(A38,[2]data1761205830331!$A$1:$J$65536,10,0) -> 2388204.9
A39: 1092000757 | B39: 757 | C39: 092000 | D39: 1 | F39: אבטחת בית רותר | G39: גמיש | H39: =J39/K39-1 -> 0 | J39: =VLOOKUP(A39,'[1]תקציב 2026'!$A$1:$M$65536,9,0) -> 330000 | K39: 330000 | L39: =VLOOKUP(A39,[2]data1761205830331!$A$1:$J$65536,10,0) -> 0
A40: 1092000758 | B40: 758 | C40: 092000 | D40: 1 | F40: אבטחה בניין מלט"ב | G40: גמיש | H40: =J40/K40-1 -> 0.086956522 | J40: =VLOOKUP(A40,'[1]תקציב 2026'!$A$1:$M$65536,9,0) -> 250000 | K40: 230000 | L40: =VLOOKUP(A40,[2]data1761205830331!$A$1:$J$65536,10,0) -> 0
A41: 1092000794 | B41: 794 | C41: 092000 | D41: 1 | F41: השתתפות בעזר 094 | G41: קשיח | H41: =J41/K41-1 -> 0 | J41: =VLOOKUP(A41,'[1]תקציב 2026'!$A$1:$M$65536,9,0) -> 50000 | K41: 50000 | L41: =VLOOKUP(A41,[2]data1761205830331!$A$1:$J$65536,10,0) -> 59636
A42: 1092000931 | B42: 931 | C42: 092000 | D42: 1 | F42: רכישת ציוד | G42: גמיש | H42: =J42/K42-1 -> 0 | J42: =VLOOKUP(A42,'[1]תקציב 2026'!$A$1:$M$65536,9,0) -> 23000 | K42: =VLOOKUP(A42,[3]גיליון1!$A$1:$C$7693,3,0) -> 23000 | L42: =VLOOKUP(A42,[2]data1761205830331!$A$1:$J$65536,10,0) -> 22051.26
A43: 1092000932 | B43: 932 | C43: 092000 | D43: 1 | F43: אג' טלוויזיה וכבלים | G43: גמיש | H43: =J43/K43-1 -> 0 | J43: =VLOOKUP(A43,'[1]תקציב 2026'!$A$1:$M$65536,9,0) -> 16000 | K43: =VLOOKUP(A43,[3]גיליון1!$A$1:$C$7693,3,0) -> 16000 | L43: =VLOOKUP(A43,[2]data1761205830331!$A$1:$J$65536,10,0) -> 14058.21
A44: 1092000934 | B44: 934 | C44: 092000 | D44: 1 | F44: רכישות/פע' חד-פעמי | G44: גמיש | H44: =J44/K44-1 -> 0 | J44: =VLOOKUP(A44,'[1]תקציב 2026'!$A$1:$M$65536,9,0) -> 25000 | K44: =VLOOKUP(A44,[3]גיליון1!$A$1:$C$7693,3,0) -> 25000 | L44: =VLOOKUP(A44,[2]data1761205830331!$A$1:$J$65536,10,0) -> 22800.1
A45: #VALUE! | B45: 092000 סך הכל | F45: משרד הרשות ושרותים | H45: =J45/K45-1 -> 0.057671305 | J45: =SUBTOTAL(9,J7:J44) -> 9006600 | K45: =SUBTOTAL(9,K7:K44) -> 8515500 | L45: =SUBTOTAL(9,L7:L44) -> 7721675.6
A46: 10921000 | B46: 0 | C46: 092100 | D46: 1 | F46: העמסת בית העירייה
A47: 1092100492 | B47: 492 | C47: 092100 | D47: 1 | F47: השתתפות בעזר 092 | G47: קשיח | H47: =J47/K47-1 -> 0.057671305 | J47: =VLOOKUP(A47,'[1]תקציב 2026'!$A$1:$M$65536,9,0) -> -9006600 | K47: -8515500 | L47: =VLOOKUP(A47,[2]data1761205830331!$A$1:$J$65536,10,0) -> -7721675.6
A48: #VALUE! | B48: 092100 סך הכל | F48: העמסת בית העירייה | H48: =J48/K48-1 -> 0.057671305 | J48: =SUBTOTAL(9,J47) -> -9006600 | K48: =SUBTOTAL(9,K47) -> -8515500 | L48: =SUBTOTAL(9,L47) -> -7721675.6
A49: 10940000 | B49: 0 | C49: 094000 | D49: 1 | F49: אפסנאות מחסנים
A50: 1094000110 | B50: 110 | C50: 094000 | D50: 1 | F50: השכר הקובע-תקציבית | G50: שכר | H50: =J50/K50-1 -> 0.025008437 | J50: =VLOOKUP(A50,'[1]תקציב 2026'!$A$1:$M$65536,9,0) -> 607420 | K50: 592600 | L50: =VLOOKUP(A50,[2]data1761205830331!$A$1:$J$65536,10,0) -> 642596.13
A51: 1094000119 | B51: 119 | C51: 094000 | D51: 1 | F51: השכר הקובע-צוברת | G51: שכר | H51: =J51/K51-1 -> 0.2729981 | J51: =602510 -> 602510 | K51: 473300 | L51: =VLOOKUP(A51,[2]data1761205830331!$A$1:$J$65536,10,0) -> 703700.58
A52: 1094000122 | B52: 122 | C52: 094000 | D52: 1 | F52: ביגוד | G52: שכר | H52: =J52/K52-1 -> 0 | J52: =VLOOKUP(A52,'[1]תקציב 2026'!$A$1:$M$65536,9,0) -> 14500 | K52: =VLOOKUP(A52,[3]גיליון1!$A$1:$C$7693,3,0) -> 14500 | L52: =VLOOKUP(A52,[2]data1761205830331!$A$1:$J$65536,10,0) -> 15913.93
A53: 1094000126 | B53: 126 | C53: 094000 | D53: 1 | F53: דמי הבראה | G53: שכר | H53: =J53/K53-1 -> 0 | J53: =VLOOKUP(A53,'[1]תקציב 2026'!$A$1:$M$65536,9,0) -> 43800 | K53: =VLOOKUP(A53,[3]גיליון1!$A$1:$C$7693,3,0) -> 43800 | L53: =VLOOKUP(A53,[2]data1761205830331!$A$1:$J$65536,10,0) -> 48409.56
A54: 1094000130 | B54: 130 | C54: 094000 | D54: 1 | F54: שעות נוספות | G54: שכר | H54: =J54/K54-1 -> 0 | J54: =VLOOKUP(A54,'[1]תקציב 2026'!$A$1:$M$65536,9,0) -> 46700 | K54: 46700 | L54: =VLOOKUP(A54,[2]data1761205830331!$A$1:$J$65536,10,0) -> 93156.42
A55: 1094000140 | B55: 140 | C55: 094000 | D55: 1 | F55: השתתפות באחזקת רכב | G55: שכר | H55: =J55/K55-1 -> 0 | J55: =VLOOKUP(A55,'[1]תקציב 2026'!$A$1:$M$65536,9,0) -> 81800 | K55: =VLOOKUP(A55,[3]גיליון1!$A$1:$C$7693,3,0) -> 81800 | L55: =VLOOKUP(A55,[2]data1761205830331!$A$1:$J$65536,10,0) -> 98900.32
A56: 1094000253 | B56: 253 | C56: 094000 | D56: 1 | F56: עובדים חיצוניים | G56: שכר | H56: 0 | J56: =VLOOKUP(A56,'[1]תקציב 2026'!$A$1:$M$65536,9,0) -> 0 | K56: 0 | L56: =VLOOKUP(A56,[2]data1761205830331!$A$1:$J$65536,10,0) -> 45231.08
A57: 1094000420 | B57: 420 | C57: 094000 | D57: 1 | F57: כיבוי אש | G57: קשיח | H57: =J57/K57-1 -> 0.16666667 | J57: =VLOOKUP(A57,'[1]תקציב 2026'!$A$1:$M$65536,9,0) -> 7000 | K57: 6000 | L57: =VLOOKUP(A57,[2]data1761205830331!$A$1:$J$65536,10,0) -> 5118.21
A58: 1094000423 | B58: 423 | C58: 094000 | D58: 1 | F58: תחזוקת מבנה | G58: קשיח | H58: =J58/K58-1 -> 0 | J58: =VLOOKUP(A58,'[1]תקציב 2026'!$A$1:$M$65536,9,0) -> 67700 | K58: 67700 | L58: =VLOOKUP(A58,[2]data1761205830331!$A$1:$J$65536,10,0) -> 67000
A59: 1094000433 | B59: 433 | C59: 094000 | D59: 1 | F59: חומרי נקיון | G59: גמיש | H59: =J59/K59-1 -> 0 | J59: =VLOOKUP(A59,'[1]תקציב 2026'!$A$1:$M$65536,9,0) -> 12100 | K59: 12100 | L59: =VLOOKUP(A59,[2]data1761205830331!$A$1:$J$65536,10,0) -> 10640.01
A60: 1094000437 | B60: 437 | C60: 094000 | D60: 1 | F60: אחזקת אזעקה | G60: קשיח | H60: =J60/K60-1 -> -0.047619048 | J60: =VLOOKUP(A60,'[1]תקציב 2026'!$A$1:$M$65536,9,0) -> 6000 | K60: 6300 | L60: =VLOOKUP(A60,[2]data1761205830331!$A$1:$J$65536,10,0) -> 4071.6
A61: 1094000450 | B61: 450 | C61: 094000 | D61: 1 | F61: אחזקת תמי 4 | G61: קשיח | H61: =J61/K61-1 -> 1 | J61: =VLOOKUP(A61,'[1]תקציב 2026'!$A$1:$M$65536,9,0) -> 2200 | K61: 1100 | L61: =VLOOKUP(A61,[2]data1761205830331!$A$1:$J$65536,10,0) -> 0
A62: 1094000451 | B62: 451 | C62: 094000 | D62: 1 | F62: אחזקת דפיברילטור | G62: קשיח | H62: =J62/K62-1 -> -1 | J62: =VLOOKUP(A62,'[1]תקציב 2026'!$A$1:$M$65536,9,0) -> 0 | K62: 3000 | L62: =VLOOKUP(A62,[2]data1761205830331!$A$1:$J$65536,10,0) -> 273.78
A63: 1094000470 | B63: 470 | C63: 094000 | D63: 1 | F63: אחזקת מכונות משרד | G63: גמיש | H63: =J63/K63-1 -> -0.6875 | J63: =VLOOKUP(A63,'[1]תקציב 2026'!$A$1:$M$65536,9,0) -> 500 | K63: 1600 | L63: =VLOOKUP(A63,[2]data1761205830331!$A$1:$J$65536,10,0) -> 39.94
A64: 1094000471 | B64: 471 | C64: 094000 | D64: 1 | F64: מכשירי כתיבה | G64: גמיש | H64: =J64/K64-1 -> -0.29078014 | J64: =VLOOKUP(A64,'[1]תקציב 2026'!$A$1:$M$65536,9,0) -> 10000 | K64: 14100 | L64: =VLOOKUP(A64,[2]data1761205830331!$A$1:$J$65536,10,0) -> 15075.87
A65: 1094000492 | B65: 492 | C65: 094000 | D65: 1 | F65: השתתפות בעזר 092 | G65: קשיח | H65: =J65/K65-1 -> 0 | J65: =VLOOKUP(A65,'[1]תקציב 2026'!$A$1:$M$65536,9,0) -> 225000 | K65: 225000 | L65: =VLOOKUP(A65,[2]data1761205830331!$A$1:$J$65536,10,0) -> 202789
A66: 1094000511 | B66: 511 | C66: 094000 | D66: 1 | F66: אירוח וכיבוד | G66: גמיש | H66: =J66/K66-1 -> 0.48148148 | J66: =VLOOKUP(A66,'[1]תקציב 2026'!$A$1:$M$65536,9,0) -> 12000 | K66: 8100 | L66: =VLOOKUP(A66,[2]data1761205830331!$A$1:$J$65536,10,0) -> 6821
A67: 1094000540 | B67: 540 | C67: 094000 | D67: 1 | F67: הוצאות טלפון | G67: קשיח | H67: 0 | J67: =VLOOKUP(A67,'[1]תקציב 2026'!$A$1:$M$65536,9,0) -> 0 | K67: 0 | L67: =VLOOKUP(A67,[2]data1761205830331!$A$1:$J$65536,10,0) -> 0
A68: 1094000550 | B68: 550 | C68: 094000 | D68: 1 | F68: פירסומים | G68: גמיש | H68: =J68/K68-1 -> 0 | J68: =VLOOKUP(A68,'[1]תקציב 2026'!$A$1:$M$65536,9,0) -> 2000 | K68: 2000 | L68: =VLOOKUP(A68,[2]data1761205830331!$A$1:$J$65536,10,0) -> 5553
A69: 1094000561 | B69: 561 | C69: 094000 | D69: 1 | F69: שיכפולים | G69: גמיש | H69: =J69/K69-1 -> -1 | J69: =VLOOKUP(A69,'[1]תקציב 2026'!$A$1:$M$65536,9,0) -> 0 | K69: 200 | L69: =VLOOKUP(A69,[2]data1761205830331!$A$1:$J$65536,10,0) -> 0
A70: 1094000571 | B70: 571 | C70: 094000 | D70: 1 | F70: מיכון וענ"א | G70: קשיח | H70: =J70/K70-1 -> 0 | J70: =VLOOKUP(A70,'[1]תקציב 2026'!$A$1:$M$65536,9,0) -> 127400 | K70: 127400 | L70: =VLOOKUP(A70,[2]data1761205830331!$A$1:$J$65536,10,0) -> 127400
A71: 1094000596 | B71: 596 | C71: 094000 | D71: 1 | F71: השתתפות בעזר 096 | G71: קשיח | H71: =J71/K71-1 -> 0 | J71: =VLOOKUP(A71,'[1]תקציב 2026'!$A$1:$M$65536,9,0) -> 110000 | K71: 110000 | L71: =VLOOKUP(A71,[2]data1761205830331!$A$1:$J$65536,10,0) -> 102817
A72: 1094000721 | B72: 721 | C72: 094000 | D72: 1 | F72: חמרים-תחזוקת מבנים | G72: גמיש | H72: =J72/K72-1 -> -1 | J72: =VLOOKUP(A72,'[1]תקציב 2026'!$A$1:$M$65536,9,0) -> 0 | K72: 80000 | L72: =VLOOKUP(A72,[2]data1761205830331!$A$1:$J$65536,10,0) -> 0
A73: 1094000742 | B73: 742 | C73: 094000 | D73: 1 | F73: כלים וציוד | G73: גמיש | H73: =J73/K73-1 -> 0 | J73: =VLOOKUP(A73,'[1]תקציב 2026'!$A$1:$M$65536,9,0) -> 4000 | K73: 4000 | L73: =VLOOKUP(A73,[2]data1761205830331!$A$1:$J$65536,10,0) -> 3100
A74: 1094000751 | B74: 751 | C74: 094000 | D74: 1 | F74: עבודות קבלניות | G74: גמיש | H74: =J74/K74-1 -> 0.23762376 | J74: =VLOOKUP(A74,'[1]תקציב 2026'!$A$1:$M$65536,9,0) -> 50000 | K74: 40400 | L74: =VLOOKUP(A74,[2]data1761205830331!$A$1:$J$65536,10,0) -> 37636
A75: 1094000752 | B75: 752 | C75: 094000 | D75: 1 | F75: נקיון בקבלנות | G75: קשיח | H75: =J75/K75-1 -> -0.3627451 | J75: =VLOOKUP(A75,'[1]תקציב 2026'!$A$1:$M$65536,9,0) -> 65000 | K75: =VLOOKUP(A75,[3]גיליון1!$A$1:$C$7693,3,0) -> 102000 | L75: =VLOOKUP(A75,[2]data1761205830331!$A$1:$J$65536,10,0) -> 99833.52
A76: 1094000756 | B76: 756 | C76: 094000 | D76: 1 | F76: שמירה בקבלנות | G76: קשיח | H76: =J76/K76-1 -> 0 | J76: =VLOOKUP(A76,'[1]תקציב 2026'!$A$1:$M$65536,9,0) -> 360000 | K76: =VLOOKUP(A76,[3]גיליון1!$A$1:$C$7693,3,0) -> 360000 | L76: =VLOOKUP(A76,[2]data1761205830331!$A$1:$J$65536,10,0) -> 361140.38
A77: 1094000757 | B77: 757 | C77: 094000 | D77: 1 | F77: פינויים | G77: גמיש | H77: =J77/K77-1 -> -0.10891089 | J77: =VLOOKUP(A77,'[1]תקציב 2026'!$A$1:$M$65536,9,0) -> 9000 | K77: 10100 | L77: =VLOOKUP(A77,[2]data1761205830331!$A$1:$J$65536,10,0) -> 7722
A78: 1094000930 | B78: 930 | C78: 094000 | D78: 1 | F78: רכישות חד פעמיות | G78: גמיש | H78: =J78/K78-1 -> 0 | J78: =VLOOKUP(A78,'[1]תקציב 2026'!$A$1:$M$65536,9,0) -> 3000 | K78: 3000 | L78: =VLOOKUP(A78,[2]data1761205830331!$A$1:$J$65536,10,0) -> 2763.06
A79: 1094000931 | B79: 931 | C79: 094000 | D79: 1 | F79: אביזרי בטיחות | G79: גמיש | H79: =J79/K79-1 -> 0.33333333 | J79: =VLOOKUP(A79,'[1]תקציב 2026'!$A$1:$M$65536,9,0) -> 4000 | K79: 3000 | L79: =VLOOKUP(A79,[2]data1761205830331!$A$1:$J$65536,10,0) -> 0
A80: #VALUE! | B80: 094000 סך הכל | F80: אפסנאות מחסנים | H80: =J80/K80-1 -> 0.013865891 | J80: =SUBTOTAL(9,J49:J79) -> 2473630 | K80: =SUBTOTAL(9,K49:K79) -> 2439800 | L80: =SUBTOTAL(9,L49:L79) -> 2707702.4
A81: 10941000 | B81: 0 | C81: 094100 | D81: 1 | F81: העמסת מחסנים
A82: 1094100794 | B82: 794 | C82: 094100 | D82: 1 | F82: השתתפות בעזר 094 | G82: קשיח | H82: =J82/K82-1 -> 0.013865891 | J82: =VLOOKUP(A82,'[1]תקציב 2026'!$A$1:$M$65536,9,0) -> -2473630 | K82: -2439800 | L82: =VLOOKUP(A82,[2]data1761205830331!$A$1:$J$65536,10,0) -> -2707702.4
A83: #VALUE! | B83: 094100 סך הכל | F83: העמסת מחסנים | H83: =J83/K83-1 -> 0.013865891 | J83: =SUBTOTAL(9,J82) -> -2473630 | K83: =SUBTOTAL(9,K82) -> -2439800 | L83: =SUBTOTAL(9,L82) -> -2707702.4
A84: 10960000 | B84: 0 | C84: 096000 | D84: 1 | F84: מוסך ורכב
A85: 1096000110 | B85: 110 | C85: 096000 | D85: 1 | F85: השכר הקובע-תקציבית | G85: שכר | H85: =J85/K85-1 -> 0.02503268 | J85: =VLOOKUP(A85,'[1]תקציב 2026'!$A$1:$M$65536,9,0) -> 156830 | K85: 153000 | L85: =VLOOKUP(A85,[2]data1761205830331!$A$1:$J$65536,10,0) -> 148370.86
A86: 1096000119 | B86: 119 | C86: 096000 | D86: 1 | F86: השכר הקובע-צוברת | G86: שכר | H86: =J86/K86-1 -> -0.18623651 | J86: =VLOOKUP(A86,'[1]תקציב 2026'!$A$1:$M$65536,9,0) -> 331690 | K86: 407600 | L86: =VLOOKUP(A86,[2]data1761205830331!$A$1:$J$65536,10,0) -> 376254.71
A87: 1096000122 | B87: 122 | C87: 096000 | D87: 1 | F87: ביגוד | G87: שכר | H87: =J87/K87-1 -> 0 | J87: =VLOOKUP(A87,'[1]תקציב 2026'!$A$1:$M$65536,9,0) -> 6100 | K87: =VLOOKUP(A87,[3]גיליון1!$A$1:$C$7693,3,0) -> 6100 | L87: =VLOOKUP(A87,[2]data1761205830331!$A$1:$J$65536,10,0) -> 6077.5
A88: 1096000126 | B88: 126 | C88: 096000 | D88: 1 | F88: דמי הבראה | G88: שכר | H88: =J88/K88-1 -> 0 | J88: =VLOOKUP(A88,'[1]תקציב 2026'!$A$1:$M$65536,9,0) -> 14500 | K88: =VLOOKUP(A88,[3]גיליון1!$A$1:$C$7693,3,0) -> 14500 | L88: =VLOOKUP(A88,[2]data1761205830331!$A$1:$J$65536,10,0) -> 14554.4
A89: 1096000130 | B89: 130 | C89: 096000 | D89: 1 | F89: שעות נוספות | G89: שכר | H89: 0 | J89: =VLOOKUP(A89,'[1]תקציב 2026'!$A$1:$M$65536,9,0) -> 0 | K89: 0 | L89: =VLOOKUP(A89,[2]data1761205830331!$A$1:$J$65536,10,0) -> 0
A90: 1096000140 | B90: 140 | C90: 096000 | D90: 1 | F90: השתתפות באחזקת רכב | G90: שכר | H90: =J90/K90-1 -> 0 | J90: =VLOOKUP(A90,'[1]תקציב 2026'!$A$1:$M$65536,9,0) -> 65200 | K90: =VLOOKUP(A90,[3]גיליון1!$A$1:$C$7693,3,0) -> 65200 | L90: =VLOOKUP(A90,[2]data1761205830331!$A$1:$J$65536,10,0) -> 72400.68
A91: 1096000253 | B91: 253 | C91: 096000 | D91: 1 | F91: עובדים חיצוניים | G91: שכר | H91: 1 | I91: חדש | J91: =VLOOKUP(A91,'[1]תקציב 2026'!$A$1:$M$65536,9,0) -> 0 | K91: 0 | L91: 0
A92: 1096000420 | B92: 420 | C92: 096000 | D92: 1 | F92: כיבוי אש | G92: קשיח | H92: =J92/K92-1 -> 0 | J92: =VLOOKUP(A92,'[1]תקציב 2026'!$A$1:$M$65536,9,0) -> 5100 | K92: 5100 | L92: =VLOOKUP(A92,[2]data1761205830331!$A$1:$J$65536,10,0) -> 3999.04
A93: 1096000433 | B93: 433 | C93: 096000 | D93: 1 | F93: חומרי נקיון | G93: גמיש | H93: =J93/K93-1 -> 0 | J93: =VLOOKUP(A93,'[1]תקציב 2026'!$A$1:$M$65536,9,0) -> 5100 | K93: 5100 | L93: =VLOOKUP(A93,[2]data1761205830331!$A$1:$J$65536,10,0) -> 5153.39
A94: 1096000441 | B94: 441 | C94: 096000 | D94: 1 | F94: ביטוח רכב | G94: קשיח | H94: =J94/K94-1 -> 0.026472177 | J94: =VLOOKUP(A94,'[1]תקציב 2026'!$A$1:$M$65536,9,0) -> 950000 | K94: 925500 | L94: =VLOOKUP(A94,[2]data1761205830331!$A$1:$J$65536,10,0) -> 829643
A95: 1096000470 | B95: 470 | C95: 096000 | D95: 1 | F95: אחזקת מכונות משרד | G95: גמיש | H95: =J95/K95-1 -> -0.375 | J95: =VLOOKUP(A95,'[1]תקציב 2026'!$A$1:$M$65536,9,0) -> 500 | K95: 800 | L95: =VLOOKUP(A95,[2]data1761205830331!$A$1:$J$65536,10,0) -> 970
A96: 1096000471 | B96: 471 | C96: 096000 | D96: 1 | F96: מכשירי כתיבה | G96: גמיש | H96: =J96/K96-1 -> 0 | J96: =VLOOKUP(A96,'[1]תקציב 2026'!$A$1:$M$65536,9,0) -> 5100 | K96: 5100 | L96: =VLOOKUP(A96,[2]data1761205830331!$A$1:$J$65536,10,0) -> 4370.32
A97: 1096000492 | B97: 492 | C97: 096000 | D97: 1 | F97: השתתפות בעזר 092 | G97: קשיח | H97: =J97/K97-1 -> 0.13714286 | J97: =VLOOKUP(A97,'[1]תקציב 2026'!$A$1:$M$65536,9,0) -> 99500 | K97: 87500 | L97: =VLOOKUP(A97,[2]data1761205830331!$A$1:$J$65536,10,0) -> 77195
A98: 1096000511 | B98: 511 | C98: 096000 | D98: 1 | F98: אירוח וכיבוד | G98: גמיש | H98: =J98/K98-1 -> -0.13793103 | J98: =VLOOKUP(A98,'[1]תקציב 2026'!$A$1:$M$65536,9,0) -> 2500 | K98: 2900 | L98: =VLOOKUP(A98,[2]data1761205830331!$A$1:$J$65536,10,0) -> 2712.75
A99: 1096000512 | B99: 512 | C99: 096000 | D99: 1 | F99: נסיעות ואש"ל | G99: גמיש | H99: =J99/K99-1 -> -1 | J99: =VLOOKUP(A99,'[1]תקציב 2026'!$A$1:$M$65536,9,0) -> 0 | K99: 200 | L99: =VLOOKUP(A99,[2]data1761205830331!$A$1:$J$65536,10,0) -> 0
A100: 1096000521 | B100: 521 | C100: 096000 | D100: 1 | F100: הדרכות | G100: גמיש | H100: 1 | I100: חדש | J100: =VLOOKUP(A100,'[1]תקציב 2026'!$A$1:$M$65536,9,0) -> 16000 | K100: 0 | L100: 0
A101: 1096000522 | B101: 522 | C101: 096000 | D101: 1 | F101: ספרים ועיתונים | G101: גמיש | H101: =J101/K101-1 -> -1 | J101: =VLOOKUP(A101,'[1]תקציב 2026'!$A$1:$M$65536,9,0) -> 0 | K101: 800 | L101: =VLOOKUP(A101,[2]data1761205830331!$A$1:$J$65536,10,0) -> 0
...
